BEGIN:VCALENDAR
VERSION:2.0
PRODID:-//Squarespace Inc/Squarespace 6//v6//EN
BEGIN:VEVENT
UID:5f4f3bd4f41ed579a06b25de@squarespace.com
DTSTAMP:20200902T063022Z
DTSTART:20201006T220000Z
DTEND:20201007T000000Z
SUMMARY:*EVERY TUESDAY* Bboy/Bgirl Practice Session 
GEO:-27.458878;153.036201
LOCATION:Elements Collective\, 17 McLachlan Street\, Fortitude Valley\, QLD
 \, 4006\, Australia
END:VEVENT
END:VCALENDAR
