BEGIN:VCALENDAR
VERSION:2.0
PRODID:-//Squarespace Inc/Squarespace 6//v6//EN
BEGIN:VEVENT
UID:5f4f3c096d5d88276e32a525@squarespace.com
DTSTAMP:20201129T094840Z
DTSTART:20201103T230000Z
DTEND:20201104T010000Z
SUMMARY:*EVERY TUESDAY* Bboy/Bgirl Practice Session 
GEO:-27.458878;153.036201
LOCATION:Elements Collective\, 17 McLachlan Street\, Fortitude Valley\, QLD
 \, 4006\, Australia
END:VEVENT
END:VCALENDAR
