BEGIN:VCALENDAR
VERSION:2.0
PRODID:-//Squarespace Inc/Squarespace 6//v6//EN
BEGIN:VEVENT
UID:5f4f3c47180ef7693d09a6c6@squarespace.com
DTSTAMP:20201129T094557Z
DTSTART:20201201T230000Z
DTEND:20201202T010000Z
SUMMARY:*EVERY TUESDAY* Bboy/Bgirl Practice Session 
GEO:-27.458878;153.036201
LOCATION:Elements Collective\, 17 McLachlan Street\, Fortitude Valley\, QLD
 \, 4006\, Australia
END:VEVENT
END:VCALENDAR
