BEGIN:VCALENDAR
VERSION:2.0
PRODID:-//Squarespace Inc/Squarespace 6//v6//EN
BEGIN:VEVENT
UID:5f35fb146207eb32c1a0dfae@squarespace.com
DTSTAMP:20201129T094945Z
DTSTART:20200905T150000Z
DTEND:20200905T210000Z
SUMMARY:10 YEARS OF EC! Block Party : Anniversary Event
GEO:-27.458878;153.036201
LOCATION:EC Venue\, 17 McLachlan Street\, Fortitude Valley\, QLD\, 4006\, A
 ustralia
END:VEVENT
END:VCALENDAR
