BEGIN:VCALENDAR
VERSION:2.0
PRODID:-//Squarespace Inc/Squarespace 6//v6//EN
BEGIN:VEVENT
UID:6017926a6265082fa7fb81b8@squarespace.com
DTSTAMP:20210201T053612Z
DTSTART:20210202T090000Z
DTEND:20210202T120000Z
SUMMARY:Sambaliscious - Dance Class
GEO:-27.458894;153.036201
LOCATION:Elements Collective\, 17 McLachlan Street\, Fortitude Valley\, QLD
 \, 4006\, Australia
END:VEVENT
END:VCALENDAR
