BEGIN:VCALENDAR
VERSION:2.0
PRODID:-//Squarespace Inc/Squarespace 6//v6//EN
BEGIN:VEVENT
UID:60179478810714608186bc99@squarespace.com
DTSTAMP:20210201T054250Z
DTSTART:20210204T083000Z
DTEND:20210204T103000Z
SUMMARY:Primalates - Pilates &amp\; Yoga
GEO:-27.458894;153.036201
LOCATION:Elements Collective\, 17 McLachlan Street\, Fortitude Valley\, QLD
 \, 4006\, Australia
END:VEVENT
END:VCALENDAR
