BEGIN:VCALENDAR
VERSION:2.0
PRODID:-//Squarespace Inc/Squarespace 6//v6//EN
BEGIN:VEVENT
UID:6017936323153928e49bea44@squarespace.com
DTSTAMP:20210201T054058Z
DTSTART:20210205T050000Z
DTEND:20210205T070000Z
SUMMARY:BAMD - Dance Classes
GEO:-27.458894;153.036201
LOCATION:Elements Collective\, 17 McLachlan Street\, Fortitude Valley\, QLD
 \, 4006\, Australia
END:VEVENT
END:VCALENDAR
