BEGIN:VCALENDAR
VERSION:2.0
PRODID:-//Squarespace Inc/Squarespace 6//v6//EN
BEGIN:VEVENT
UID:5f4f1388e558153043fcfaf8@squarespace.com
DTSTAMP:20201219T112147Z
DTSTART:20200905T080000Z
DTEND:20200905T135900Z
SUMMARY:EC 10th Anniversary Block Party
GEO:-27.458878;153.036201
LOCATION:Elements Collective\, 17 McLachlan Street\, Fortitude Valley\, QLD
 \, 4006\, Australia
END:VEVENT
END:VCALENDAR
