BEGIN:VCALENDAR
VERSION:2.0
PRODID:-//Squarespace Inc/Squarespace 6//v6//EN
BEGIN:VEVENT
UID:5fbc6d003fdc31513affe574@squarespace.com
DTSTAMP:20201129T094017Z
DTSTART:20201211T093000Z
DTEND:20201211T103000Z
SUMMARY:Love/Hate Actually
GEO:-27.458894;153.036201
LOCATION:Elements Collective\, 17 McLachlan Street\, Fortitude Valley\, QLD
 \, 4006\, Australia
END:VEVENT
END:VCALENDAR
