BEGIN:VCALENDAR
VERSION:2.0
PRODID:-//Squarespace Inc/Squarespace 6//v6//EN
BEGIN:VEVENT
UID:5fb60244cab3781681eda1d2@squarespace.com
DTSTAMP:20201219T111517Z
DTSTART:20201212T084500Z
DTEND:20201212T134500Z
SUMMARY:50th Anniversary of The Beatles "Let It Be"
GEO:-27.458894;153.036201
LOCATION:Elements Collective\, 17 McLachlan Street\, Fortitude Valley\, QLD
 \, 4006\, Australia
END:VEVENT
END:VCALENDAR
