BEGIN:VCALENDAR
VERSION:2.0
PRODID:-//Squarespace Inc/Squarespace 6//v6//EN
BEGIN:VEVENT
UID:5f4f26d5027b493e93122ece@squarespace.com
DTSTAMP:20201129T093028Z
DTSTART:20201204T084500Z
DTEND:20201204T113000Z
SUMMARY:Christmas Cabaret
GEO:-27.458878;153.036201
LOCATION:Elements Collective\, 17 McLachlan Street\, Fortitude Valley\, QLD
 \, 4006\, Australia
END:VEVENT
END:VCALENDAR
