BEGIN:VCALENDAR
VERSION:2.0
PRODID:-//Squarespace Inc/Squarespace 6//v6//EN
BEGIN:VEVENT
UID:5fa8c8ef92c73f0939e49fc0@squarespace.com
DTSTAMP:20201129T094415Z
DTSTART:20201205T080000Z
DTEND:20201205T135900Z
SUMMARY:PUTTY - Presented by Tommy Skrills and EC
GEO:-27.458894;153.036201
LOCATION:Elements Collective\, 17 McLachlan Street\, Fortitude Valley\, QLD
 \, 4006\, Australia
END:VEVENT
END:VCALENDAR
