BEGIN:VCALENDAR
VERSION:2.0
PRODID:-//Squarespace Inc/Squarespace 6//v6//EN
BEGIN:VEVENT
UID:5f4f2b306d5d88276e314957@squarespace.com
DTSTAMP:20201129T093850Z
DTSTART:20200912T210000Z
DTEND:20200913T060000Z
SUMMARY:Brisbane Festival - Exercise Surprises
GEO:-27.469771;153.025124
LOCATION:Brisbane City\, 4000\, Australia
END:VEVENT
END:VCALENDAR
