BEGIN:VCALENDAR
VERSION:2.0
PRODID:-//Squarespace Inc/Squarespace 6//v6//EN
BEGIN:VEVENT
UID:5f4f37f13c28b129b0d64ffa@squarespace.com
DTSTAMP:20201129T093812Z
DTSTART:20200928T030000Z
DTEND:20200930T090000Z
SUMMARY:Hip Hop Workshops
GEO:-27.557704;152.278114
LOCATION:Gatton Shire Hall\, 52 North St\, Gatton\, Qld 4343\, Australia
END:VEVENT
END:VCALENDAR
