BEGIN:VCALENDAR
VERSION:2.0
PRODID:-//Squarespace Inc/Squarespace 6//v6//EN
BEGIN:VEVENT
UID:600eb218a2383a5eba769fc7@squarespace.com
DTSTAMP:20210125T115841Z
DTSTART:20210213T020000Z
DTEND:20210213T100000Z
SUMMARY:BrisAsia - 7 to Smoke AUS Qualifier
GEO:-27.458894;153.036201
LOCATION:Elements Collective\, 17 McLachlan Street\, Fortitude Valley\, QLD
 \, 4006\, Australia
END:VEVENT
END:VCALENDAR
