BEGIN:VCALENDAR
VERSION:2.0
PRODID:-//Squarespace Inc/Squarespace 6//v6//EN
BEGIN:VEVENT
UID:600eb2db20c2137a1c3c4ef1@squarespace.com
DTSTAMP:20210125T120119Z
DTSTART:20210320T070000Z
DTEND:20210320T135900Z
SUMMARY:Private Event
GEO:-27.458894;153.036201
LOCATION:Elements Collective\, 17 McLachlan Street\, Fortitude Valley\, QLD
 \, 4006\, Australia
END:VEVENT
END:VCALENDAR
