BEGIN:VCALENDAR
VERSION:2.0
PRODID:-//Squarespace Inc/Squarespace 6//v6//EN
BEGIN:VEVENT
UID:600eb318676fdd7e7a1173b7@squarespace.com
DTSTAMP:20210208T051628Z
DTSTART:20210327T050000Z
DTEND:20210327T090000Z
SUMMARY:Wedding Open Day
GEO:-27.458894;153.036201
LOCATION:Elements Collective\, 17 McLachlan Street\, Fortitude Valley\, QLD
 \, 4006\, Australia
END:VEVENT
END:VCALENDAR
