BEGIN:VCALENDAR
VERSION:2.0
PRODID:-//Squarespace Inc/Squarespace 6//v6//EN
BEGIN:VEVENT
UID:600eb2da7dafa96389a77939@squarespace.com
DTSTAMP:20210125T121032Z
DTSTART:20210417T033000Z
DTEND:20210417T093000Z
SUMMARY:Private Event
GEO:-27.458894;153.036201
LOCATION:Elements Collective\, 17 McLachlan Street\, Fortitude Valley\, QLD
 \, 4006\, Australia
END:VEVENT
END:VCALENDAR
