BEGIN:VCALENDAR
VERSION:2.0
PRODID:-//Squarespace Inc/Squarespace 6//v6//EN
BEGIN:VEVENT
UID:600eb53dc42d5b31a3d6fcfb@squarespace.com
DTSTAMP:20210125T121127Z
DTSTART:20210501T073000Z
DTEND:20210501T133000Z
SUMMARY:Cult Burlesque 
GEO:-27.458894;153.036201
LOCATION:Elements Collective\, 17 McLachlan Street\, Fortitude Valley\, QLD
 \, 4006\, Australia
END:VEVENT
END:VCALENDAR
