BEGIN:VCALENDAR
VERSION:2.0
PRODID:-//Squarespace Inc/Squarespace 6//v6//EN
BEGIN:VEVENT
UID:5f4f25e490bc773755fbba8c@squarespace.com
DTSTAMP:20201129T093439Z
DTSTART:20201030T084500Z
DTEND:20201030T130000Z
SUMMARY:Creepy Cabaret 
GEO:-27.458878;153.036201
LOCATION:Elements Collective\, 17 McLachlan Street\, Fortitude Valley\, QLD
 \, 4006\, Australia
END:VEVENT
END:VCALENDAR
