BEGIN:VCALENDAR
VERSION:2.0
PRODID:-//Squarespace Inc/Squarespace 6//v6//EN
BEGIN:VEVENT
UID:5f4f29dd2bca236850249c20@squarespace.com
DTSTAMP:20200903T003702Z
DTSTART:20200912T050000Z
DTEND:20200912T080000Z
SUMMARY:Brisbane Festival - Exercise Surprises
GEO:-27.4565;153.0345
LOCATION:Fortitude Valley\, QLD\, 4006\, Australia
END:VEVENT
END:VCALENDAR
